BEGIN:VCALENDAR
VERSION:2.0
PRODID:-//Tukios.com/
BEGIN:VEVENT
UID:637f075e-4011-4238-b58c-e5a1531d7cc7@www.sneedfuneralchapel.com
DTSTAMP:20260422T230104Z
DTSTART:20260507T170000Z
DTEND:20260507T173000Z
SUMMARY:Rosary
DESCRIPTION:
URL:https://www.sneedfuneralchapel.com/obituaries/minerva-minnie-cruz
LOCATION: 201 E 3rd St  Lampasas TX 76550
GEO:31.0652952;-98.1811717
END:VEVENT
END:VCALENDAR