BEGIN:VCALENDAR
VERSION:2.0
PRODID:-//Tukios.com/
BEGIN:VEVENT
UID:1fb763c0-1a09-4c93-947a-4ded0fc54417@www.sneedfuneralchapel.com
DTSTAMP:20260422T230628Z
DTSTART:20260507T173000Z
DTEND:20260507T190000Z
SUMMARY:Visitation
DESCRIPTION:
URL:https://www.sneedfuneralchapel.com/obituaries/minerva-minnie-cruz
LOCATION:Sneed-Carnley Funeral Chapel 201 East 3rd Street  Lampasas TX 
	76550
GEO:31.0652878;-98.1811628
END:VEVENT
END:VCALENDAR