BEGIN:VCALENDAR
VERSION:2.0
PRODID:-//Tukios.com/
BEGIN:VEVENT
UID:4e800087-d966-473a-bb04-4c4653dd4f35@www.sneedfuneralchapel.com
DTSTAMP:20260422T230649Z
DTSTART:20260507T193000Z
DTEND:20260507T203000Z
SUMMARY:Graveside Service
DESCRIPTION:
URL:https://www.sneedfuneralchapel.com/obituaries/minerva-minnie-cruz
LOCATION:Lometa City Cemetery 5th st  Lometa TX 76853
GEO:31.2167333;-98.3907186
END:VEVENT
END:VCALENDAR