BEGIN:VCALENDAR
VERSION:2.0
PRODID:-//Tukios.com/
BEGIN:VEVENT
UID:45127341-06d0-4a51-87bb-659d01bc9fb8@www.sneedfuneralchapel.com
DTSTAMP:20260422T043431Z
DTSTART:20260502T150000Z
DTEND:20260502T160000Z
SUMMARY:Memorial Service
DESCRIPTION:
URL:https://www.sneedfuneralchapel.com/obituaries/suzanne-tooley
LOCATION: 401 S Chestnut St  Lampasas TX 76550
GEO:31.0648877;-98.1809369
END:VEVENT
END:VCALENDAR