BEGIN:VCALENDAR
VERSION:2.0
PRODID:-//Tukios.com/
BEGIN:VEVENT
UID:fac4c58c-2edb-4274-b82c-9d37b4342ad8@www.sneedfuneralchapel.com
DTSTAMP:20260420T162331Z
DTSTART:20260427T230000Z
DTEND:20260428T010000Z
SUMMARY:Visitation
DESCRIPTION:
URL:https://www.sneedfuneralchapel.com/obituaries/wanda-berry
LOCATION:Sneed-Carnley Funeral Chapel 201 East 3rd Street  Lampasas TX 
	76550
GEO:31.0652878;-98.1811628
END:VEVENT
END:VCALENDAR