BEGIN:VCALENDAR
VERSION:2.0
PRODID:-//Tukios.com/
BEGIN:VEVENT
UID:e895d89d-85bb-4e0d-a7db-1c8a8ea6135d@www.sneedfuneralchapel.com
DTSTAMP:20260420T162325Z
DTSTART:20260428T190000Z
DTEND:20260428T200000Z
SUMMARY:Funeral Service
DESCRIPTION:
URL:https://www.sneedfuneralchapel.com/obituaries/wanda-berry
LOCATION:Sneed-Carnley Funeral Chapel 201 East 3rd Street  Lampasas TX 
	76550
GEO:31.0652878;-98.1811628
END:VEVENT
END:VCALENDAR